BEGIN:VCALENDAR
VERSION:2.0
PRODID:-//Cindy Storyteller - ECPv6.15.11//NONSGML v1.0//EN
CALSCALE:GREGORIAN
METHOD:PUBLISH
X-WR-CALNAME:Cindy Storyteller
X-ORIGINAL-URL:https://cindystoryteller.com
X-WR-CALDESC:Events for Cindy Storyteller
REFRESH-INTERVAL;VALUE=DURATION:PT1H
X-Robots-Tag:noindex
X-PUBLISHED-TTL:PT1H
BEGIN:VTIMEZONE
TZID:America/Halifax
BEGIN:DAYLIGHT
TZOFFSETFROM:-0400
TZOFFSETTO:-0300
TZNAME:ADT
DTSTART:20250309T060000
END:DAYLIGHT
BEGIN:STANDARD
TZOFFSETFROM:-0300
TZOFFSETTO:-0400
TZNAME:AST
DTSTART:20251102T050000
END:STANDARD
BEGIN:DAYLIGHT
TZOFFSETFROM:-0400
TZOFFSETTO:-0300
TZNAME:ADT
DTSTART:20260308T060000
END:DAYLIGHT
BEGIN:STANDARD
TZOFFSETFROM:-0300
TZOFFSETTO:-0400
TZNAME:AST
DTSTART:20261101T050000
END:STANDARD
BEGIN:DAYLIGHT
TZOFFSETFROM:-0400
TZOFFSETTO:-0300
TZNAME:ADT
DTSTART:20270314T060000
END:DAYLIGHT
BEGIN:STANDARD
TZOFFSETFROM:-0300
TZOFFSETTO:-0400
TZNAME:AST
DTSTART:20271107T050000
END:STANDARD
END:VTIMEZONE
BEGIN:VEVENT
DTSTART;TZID=America/Halifax:20260423T013000
DTEND;TZID=America/Halifax:20260423T153000
DTSTAMP:20260419T120100
CREATED:20260409T201939Z
LAST-MODIFIED:20260409T201939Z
UID:861-1776907800-1776958200@cindystoryteller.com
SUMMARY:Stories of Perseverance and Transformation
DESCRIPTION:
URL:https://cindystoryteller.com/event/stories-of-perseverance-and-transformation/
LOCATION:Hillside United Church\, 12 Flamingo Drive\, 12 Flamingo Drive\, Bedford\, Nova Scotia\, Canada
END:VEVENT
END:VCALENDAR